BEGIN:VCALENDAR
VERSION:2.0
PRODID:-//Klinik Arlesheim//NONSGML kigkonsult.se iCalcreator 2.41.92//
CALSCALE:GREGORIAN
METHOD:PUBLISH
UID:63663366-3030-4465-b738-643663333761
X-WR-CALNAME:iCagenda
X-WR-CALDESC:Event Management Extension for Joomla!
X-WR-RELCALID:3E26604A-50F4-4449-8B3E-E4F4932D05B5
X-WR-TIMEZONE:Europe/Zurich
BEGIN:VTIMEZONE
TZID:Europe/Zurich
TZUNTIL:20280326T010000Z
BEGIN:STANDARD
TZNAME:CET
DTSTART:20251026T030000
TZOFFSETFROM:+0200
TZOFFSETTO:+0100
RDATE:20261025T030000
RDATE:20271031T030000
END:STANDARD
BEGIN:DAYLIGHT
TZNAME:CEST
DTSTART:20260329T020000
TZOFFSETFROM:+0100
TZOFFSETTO:+0200
RDATE:20270328T020000
END:DAYLIGHT
END:VTIMEZONE
BEGIN:VEVENT
UID:38646462-6534-4530-b433-303635306131
DTSTAMP:20260419T172935Z
CATEGORIES:Führungen
CLASS:PUBLIC
DESCRIPTION;ALTREP="CID:<FFFF__=0ABBE548DFE235B58f9e8a93d@coffeebean.com>":
 Wir stellen Ihnen unser integratives Behandlungskonzept der anthroposophis
 chen Onkologie vor: Misteltherapie\, Hyperthermie\, Chemotherapie\, Biogra
 phiearbeit\, Künstlerische Therapien und mehr ...\nAn allen Führungen zeig
 en wir Ihnen nach einer thematischen Einführung die Station\, Ambulanz und
  Tagesklinik der Onkologie.\nTreffpunkt: Foyer Haus Wegman - Klinik Arlesh
 eim\, Pfeffingerweg 1\, 4144 Arlesheim\nOhne Anmeldung
DTSTART:20260701T153000Z
DTEND:20260701T163000Z
GEO:00;0
LOCATION:Klinik Arlesheim\, Pfeffingerweg 1\, 4144 Arlesheim - Treffpunkt: 
 Foyer Haus Wegman
ORGANIZER:
SEQUENCE:1
SUMMARY:Führung Onkologie
TRANSP:OPAQUE
URL:http://klinik-arlesheim.ch/component/icagenda/135-fuehrung-onkologie-ju
 l?Itemid=9999
END:VEVENT
END:VCALENDAR
