BEGIN:VCALENDAR
VERSION:2.0
PRODID:-//Klinik Arlesheim//NONSGML kigkonsult.se iCalcreator 2.41.92//
CALSCALE:GREGORIAN
METHOD:PUBLISH
UID:65326363-6431-4263-b736-366636306662
X-WR-CALNAME:iCagenda
X-WR-CALDESC:Event Management Extension for Joomla!
X-WR-RELCALID:3E26604A-50F4-4449-8B3E-E4F4932D05B5
X-WR-TIMEZONE:Europe/Zurich
BEGIN:VTIMEZONE
TZID:Europe/Zurich
TZUNTIL:20280326T010000Z
BEGIN:STANDARD
TZNAME:CET
DTSTART:20251026T030000
TZOFFSETFROM:+0200
TZOFFSETTO:+0100
RDATE:20261025T030000
RDATE:20271031T030000
END:STANDARD
BEGIN:DAYLIGHT
TZNAME:CEST
DTSTART:20260329T020000
TZOFFSETFROM:+0100
TZOFFSETTO:+0200
RDATE:20270328T020000
END:DAYLIGHT
END:VTIMEZONE
BEGIN:VEVENT
UID:37613338-6361-4665-b866-366535396435
DTSTAMP:20260419T173902Z
CATEGORIES:Gesundheitsforum
CLASS:PUBLIC
DESCRIPTION;ALTREP="CID:<FFFF__=0ABBE548DFE235B58f9e8a93d@coffeebean.com>":
 Öffentliche Fachvorträge zu Gesundheitsthemen\nOhne Anmeldung und kostenlo
 s\nJeweils mittwochs von 18.30 bis 19.30 Uhr im Kulturhaus Setzwerk in Arl
 esheim\n&nbsp\;\nProgrammänderungen vorbehalten
DTSTART:20260527T163000Z
DTEND:20260527T163000Z
GEO:00;0
LOCATION:Kulturhaus Setzwerk\, Stollenrain 17\, 4144 Arlesheim
ORGANIZER:
SEQUENCE:1
SUMMARY:Gesundheitsforum – Rücken\, Gelenke\, Schmerzen –  was hilft bei Ar
 throse?
TRANSP:OPAQUE
URL:http://klinik-arlesheim.ch/component/icagenda/141-ruecken-gelenke-schme
 rzen-was-hilft-bei-arthrose/2026-05-27-18-30?Itemid=9999
END:VEVENT
END:VCALENDAR
