BEGIN:VCALENDAR
VERSION:2.0
PRODID:-//Klinik Arlesheim//NONSGML kigkonsult.se iCalcreator 2.41.92//
CALSCALE:GREGORIAN
METHOD:PUBLISH
UID:61333537-3264-4830-b861-653834346237
X-WR-CALNAME:iCagenda
X-WR-CALDESC:Event Management Extension for Joomla!
X-WR-RELCALID:3E26604A-50F4-4449-8B3E-E4F4932D05B5
X-WR-TIMEZONE:Europe/Zurich
BEGIN:VTIMEZONE
TZID:Europe/Zurich
TZUNTIL:20281029T010000Z
BEGIN:STANDARD
TZNAME:CET
DTSTART:20261025T030000
TZOFFSETFROM:+0200
TZOFFSETTO:+0100
RDATE:20271031T030000
END:STANDARD
BEGIN:DAYLIGHT
TZNAME:CEST
DTSTART:20260329T020000
TZOFFSETFROM:+0100
TZOFFSETTO:+0200
RDATE:20270328T020000
RDATE:20280326T020000
END:DAYLIGHT
END:VTIMEZONE
BEGIN:VEVENT
UID:39613663-6230-4036-a135-643839333965
DTSTAMP:20260419T192839Z
CATEGORIES:Gesundheitsforum
CLASS:PUBLIC
DESCRIPTION;ALTREP="CID:<FFFF__=0ABBE548DFE235B58f9e8a93d@coffeebean.com>":
 Öffentliche Fachvorträge zu Gesundheitsthemen\nOhne Anmeldung und kostenlo
 s\nJeweils mittwochs von 18.30 bis 19.30 Uhr im Kulturhaus Setzwerk in Arl
 esheim\n&nbsp\;\nProgrammänderungen vorbehalten
DTSTART:20261028T173000Z
DTEND:20261028T173000Z
GEO:00;0
LOCATION:Kulturhaus Setzwerk\, Stollenrain 17\, 4144 Arlesheim
ORGANIZER:
SEQUENCE:1
SUMMARY:Gesundheitsforum – Die Kraft der Berührung –  wie Nähe Gesundheit u
 nd Wohlbefinden unterstützt
TRANSP:OPAQUE
URL:http://klinik-arlesheim.ch/component/icagenda/178-gesundheitsforum-die-
 kraft-der-beruehrung-wie-naehe-gesundheit-und-wohlbefinden-unterstuetzt/20
 26-10-28-18-30?Itemid=9999
END:VEVENT
END:VCALENDAR
