BEGIN:VCALENDAR
VERSION:2.0
PRODID:-//Klinik Arlesheim//NONSGML kigkonsult.se iCalcreator 2.41.92//
CALSCALE:GREGORIAN
METHOD:PUBLISH
UID:38623734-3333-4261-b536-393130623230
X-WR-CALNAME:iCagenda
X-WR-CALDESC:Event Management Extension for Joomla!
X-WR-RELCALID:3E26604A-50F4-4449-8B3E-E4F4932D05B5
X-WR-TIMEZONE:Europe/Zurich
BEGIN:VTIMEZONE
TZID:Europe/Zurich
TZUNTIL:20280326T010000Z
BEGIN:STANDARD
TZNAME:CET
DTSTART:20251026T030000
TZOFFSETFROM:+0200
TZOFFSETTO:+0100
RDATE:20261025T030000
RDATE:20271031T030000
END:STANDARD
BEGIN:DAYLIGHT
TZNAME:CEST
DTSTART:20260329T020000
TZOFFSETFROM:+0100
TZOFFSETTO:+0200
RDATE:20270328T020000
END:DAYLIGHT
END:VTIMEZONE
BEGIN:VEVENT
UID:61383462-3232-4535-b464-626538333739
DTSTAMP:20260419T191627Z
CATEGORIES:Kulturelle Veranstaltung
CLASS:PUBLIC
DESCRIPTION;ALTREP="CID:<FFFF__=0ABBE548DFE235B58f9e8a93d@coffeebean.com>":
 Dienstag\, 22. September 2026\, 19 Uhr im Therapiehaus der Klinik Arleshei
 mIta Wegman Institut und Klinik Arlesheim laden ein.\nPeter Selg\nErdmuthe
  Worel\, Kultur
DTSTART:20260922T170000Z
DTEND:20260922T180000Z
GEO:00;0
LOCATION:Klinik Arlesheim\, Therapiehaus\, Pfeffingerweg 1\, 4144 Arlesheim
  (rollstuhlgängig\, barrierefreier Zugang)
ORGANIZER:
SEQUENCE:1
SUMMARY:„Ita Wegman und die Michael-Schule“ - Peter Selg
TRANSP:OPAQUE
URL:http://klinik-arlesheim.ch/component/icagenda/242-ita-wegman-und-die-mi
 chael-schule/2026-09-22-19-00?Itemid=9999
END:VEVENT
END:VCALENDAR
