BEGIN:VCALENDAR
VERSION:2.0
PRODID:-//Klinik Arlesheim//NONSGML kigkonsult.se iCalcreator 2.41.92//
CALSCALE:GREGORIAN
METHOD:PUBLISH
UID:64643066-3638-4264-b331-343339306537
X-WR-CALNAME:iCagenda
X-WR-CALDESC:Event Management Extension for Joomla!
X-WR-RELCALID:3E26604A-50F4-4449-8B3E-E4F4932D05B5
X-WR-TIMEZONE:Europe/Zurich
BEGIN:VTIMEZONE
TZID:Europe/Zurich
TZUNTIL:20271031T010000Z
BEGIN:STANDARD
TZNAME:CET
DTSTART:20251026T030000
TZOFFSETFROM:+0200
TZOFFSETTO:+0100
RDATE:20261025T030000
END:STANDARD
BEGIN:DAYLIGHT
TZNAME:CEST
DTSTART:20250330T020000
TZOFFSETFROM:+0100
TZOFFSETTO:+0200
RDATE:20260329T020000
RDATE:20270328T020000
END:DAYLIGHT
END:VTIMEZONE
BEGIN:VEVENT
UID:61383133-6136-4333-b835-376661373831
DTSTAMP:20260421T102923Z
CATEGORIES:Kulturelle Veranstaltung
CLASS:PUBLIC
DESCRIPTION;ALTREP="CID:<FFFF__=0ABBE548DFE235B58f9e8a93d@coffeebean.com>":
 19. Mai\, Therapiehaus der Klinik ArlesheimIta Wegman Institut und Klinik 
 Arlesheim laden ein.\nPeter Selg\nErdmuthe Worel\, Kultur
DTSTART:20260319T180000Z
DTEND:20260319T180000Z
GEO:00;0
LOCATION:Therapiehaus\, Klinik Arlesheim\, rollstuhlgängig
ORGANIZER:
SEQUENCE:1
SUMMARY:„Das Herz als Schicksalsorgan. Ita Wegman und Rudolf Steiner“ - Pet
 er Selg
TRANSP:OPAQUE
URL:http://klinik-arlesheim.ch/klinik-arlesheim/veranstaltungen/143-das-her
 z-als-schicksalsorgan-ita-wegman-und-rudolf-steiner/2026-03-19-19-00
END:VEVENT
END:VCALENDAR
