BEGIN:VCALENDAR
VERSION:2.0
PRODID:-//Klinik Arlesheim//NONSGML kigkonsult.se iCalcreator 2.41.92//
CALSCALE:GREGORIAN
METHOD:PUBLISH
UID:62343864-3430-4536-b163-356333313330
X-WR-CALNAME:iCagenda
X-WR-CALDESC:Event Management Extension for Joomla!
X-WR-RELCALID:3E26604A-50F4-4449-8B3E-E4F4932D05B5
X-WR-TIMEZONE:Europe/Zurich
BEGIN:VTIMEZONE
TZID:Europe/Zurich
TZUNTIL:20271031T010000Z
BEGIN:STANDARD
TZNAME:CET
DTSTART:20251026T030000
TZOFFSETFROM:+0200
TZOFFSETTO:+0100
RDATE:20261025T030000
END:STANDARD
BEGIN:DAYLIGHT
TZNAME:CEST
DTSTART:20250330T020000
TZOFFSETFROM:+0100
TZOFFSETTO:+0200
RDATE:20260329T020000
RDATE:20270328T020000
END:DAYLIGHT
END:VTIMEZONE
BEGIN:VEVENT
UID:33383935-6265-4531-a332-316465663231
DTSTAMP:20260421T102626Z
CATEGORIES:Konzerte
CLASS:PUBLIC
DESCRIPTION;ALTREP="CID:<FFFF__=0ABBE548DFE235B58f9e8a93d@coffeebean.com>":
 Roswitha Elisabeth Killian ViolaJohanna Lamprecht Viola\nProgramm\n\nEdmun
 d Rubbra (1901 – 1986)Meditations on a Byzantine Hymn« O quando in cruce »
 \nGeorg F. Telemann (1681 – 1767)Kanon-Sonate für zwei Violen Nr. 6Presto 
 – Largo – Vivace\nOlavi Virta (1915 – 1972)\,&nbsp\;arr. Timo Alakotila (*
 1959)Punatukkaiselle tytöllenifinnischer Tango\nJuan de Dios Filiberto (18
 85 – 1964)\,&nbsp\;arr. Juan Del GrossoEl pañuelitoargentinischer Tango\nJ
 ean-Marie Leclair (1697 – 1764)Sonate für zwei Violen Nr. 1Allegro ma poco
  – Minuetto/Alternativo – Allegro assai\nSpiritual\, arr. Bill Thorp (*195
 2)That Deep Swanee River\nEnglish Traditional\,&nbsp\;arr. Bill Thorp (*19
 52)Scarborough Fair\n\nÄnderungen sind vorbehalten.\nJohanna Lamprecht ist
  freischaffende Bratschistin und Projektgestalterin in künstlerischen Kont
 exten. Musikstudium in Hamburg\, Bremen\, Genf und Neuchâtel bei Roswitha 
 Killian\, Esther van Stralen und Ori Kam\; anschließend Masterstudium „Doi
 ng culture. Bildung und Reflexion kultureller Prozesse“ an der Universität
  Witten/Herdecke. Johanna Lamprecht verknüpft Forschung und Performance\, 
 Alte und Neue Musik\, Improvisation und künstlerische Projektgestaltung un
 d hat Anfang 2026 ihre Promotion in Musikphilosophie zu den Erkenntnismögl
 ichkeiten musikalischen Hörens abgeschlossen.\nRoswitha Elisabeth Killian\
 , Bratschistin im Nathan Quartett Hamburg\, setzt ihre Konzerterfahrung in
  zahlreichen Kammermusik-Ensembles ein. Ihre pädagogische Tätigkeit mit St
 udenten\, Schülern und Amateuren erstreckt sich auf Instrumentalunterricht
 \, Berufsbegleitung und auf die von ihr geleiteten Kammermusikkurse. Roswi
 tha Elisabeth Killian beschäftigte sich intensiv mit den Solo-Suiten Bachs
  und ihren Wurzeln in historischen Tänzen. So entwickelte sie ein besonder
 e Interpretation dieser Werke auf der Bratsche\, die sie auswendig zu Gehö
 r bringt.\nDen Infoflyer im Anhang. Herzlich eingeladen sind alle Patienti
 nnen und Patienten\, Mitarbeitende und Gäste.\nErdmuthe Worel\, Kultur
DTSTART:20260315T183000Z
DTEND:20260315T183000Z
GEO:00;0
LOCATION:Therapiehaus Klinik Arlesheim\, rollstuhlgängig
ORGANIZER;CN=:mailto:kommunikation@klinik-arlesheim.ch
SEQUENCE:1
SUMMARY:Kammermusik-Konzert mit Roswitha Elisabeth Killian und Johanna Lamp
 recht
TRANSP:OPAQUE
URL:http://klinik-arlesheim.ch/klinik-arlesheim/veranstaltungen/241-kammerm
 usik-konzert/2026-03-15-19-30
END:VEVENT
END:VCALENDAR
